BEGIN:VCALENDAR
VERSION:2.0
PRODID:icalendar-ruby
CALSCALE:GREGORIAN
METHOD:PUBLISH
BEGIN:VEVENT
DTSTAMP:20260421T234923Z
UID:14-508104@simpsonwvumc.org
DTSTART:20260915T160000Z
DTEND:20260915T170000Z
CLASS:PUBLIC
CREATED:20260421T185300
DESCRIPTION:All are welcome to participate.  Enter through the Madison Ave
  door at the back of the church.  Go down the steps\, turn left\, and the
  room is at the end of the hall.
LAST-MODIFIED:20260421T185300
LOCATION:Simpson UMC Scout Room
SUMMARY:AA Meeting
URL;VALUE=URI:https://www.simpsonwvumc.org/events/aa-meeting/2026-09-15
END:VEVENT
END:VCALENDAR
