BEGIN:VCALENDAR
VERSION:2.0
PRODID:icalendar-ruby
CALSCALE:GREGORIAN
METHOD:PUBLISH
BEGIN:VEVENT
DTSTAMP:20260422T132401Z
UID:14-509020@simpsonwvumc.org
DTSTART:20260929T160000Z
DTEND:20260929T170000Z
CLASS:PUBLIC
CREATED:20260422T083924
DESCRIPTION:All are welcome to participate.  Enter through the Madison Ave
  door at the back of the church.  Go down the steps\, turn left\, and the
  room is at the end of the hall.
LAST-MODIFIED:20260422T083924
LOCATION:Simpson UMC Scout Room
SUMMARY:AA Meeting
URL;VALUE=URI:https://www.simpsonwvumc.org/events/aa-meeting/2026-09-29
END:VEVENT
END:VCALENDAR
