BEGIN:VCALENDAR
VERSION:2.0
PRODID:icalendar-ruby
CALSCALE:GREGORIAN
METHOD:PUBLISH
BEGIN:VEVENT
DTSTAMP:20260425T155604Z
UID:10-517524@simpsonwvumc.org
DTSTART:20260824T223000Z
DTEND:20260825T003000Z
CLASS:PUBLIC
CREATED:20260425T110900
DESCRIPTION:Join us for our weekly dive into God's Word!
LAST-MODIFIED:20260425T110900
LOCATION:Simpson United Methodist Church - Sanford Room
SUMMARY:Adult Bible Study - Hebrews
URL;VALUE=URI:https://www.simpsonwvumc.org/events/adult-bible-study-hebrews
 /2026-08-24
ATTACH;FILENAME=BIble.jpg;FMTTYPE=image/jpeg:https://dq5pwpg1q8ru0.cloudfro
 nt.net/2025/07/17/20/29/42/acaae0b1-4371-4aaa-9e03-497c39a8e4ff/BIble.jpg
END:VEVENT
END:VCALENDAR
