BEGIN:VCALENDAR
VERSION:2.0
PRODID:icalendar-ruby
CALSCALE:GREGORIAN
METHOD:PUBLISH
BEGIN:VEVENT
DTSTAMP:20260421T102310Z
UID:13-505762@simpsonwvumc.org
DTSTART:20261025T213000Z
DTEND:20261025T223000Z
CLASS:PUBLIC
CREATED:20260420T211537
DESCRIPTION:Come join us! No reservation is required. The meal is free.  M
 onetary donations are always welcome\, but not mandatory.
LAST-MODIFIED:20260420T211537
LOCATION:Simpson UMC Fellowship Hall
SUMMARY:Dinner Church
URL;VALUE=URI:https://www.simpsonwvumc.org/events/dinner-church/2026-10-25
END:VEVENT
END:VCALENDAR
