BEGIN:VCALENDAR
VERSION:2.0
PRODID:icalendar-ruby
CALSCALE:GREGORIAN
METHOD:PUBLISH
BEGIN:VEVENT
DTSTAMP:20260421T114840Z
UID:13-505763@simpsonwvumc.org
DTSTART:20261101T223000Z
DTEND:20261101T233000Z
CLASS:PUBLIC
CREATED:20260420T211537
DESCRIPTION:Come join us! No reservation is required. The meal is free.  M
 onetary donations are always welcome\, but not mandatory.
LAST-MODIFIED:20260420T211537
LOCATION:Simpson UMC Fellowship Hall
SUMMARY:Dinner Church
URL;VALUE=URI:https://www.simpsonwvumc.org/events/dinner-church/2026-11-01
END:VEVENT
END:VCALENDAR
