BEGIN:VCALENDAR
VERSION:2.0
PRODID:icalendar-ruby
CALSCALE:GREGORIAN
METHOD:PUBLISH
BEGIN:VEVENT
DTSTAMP:20260424T113343Z
UID:15-514120@simpsonwvumc.org
DTSTART:20260820T233000Z
DTEND:20260821T003000Z
CLASS:PUBLIC
CREATED:20260423T231225
DESCRIPTION:All those recovering from addiction are welcome to participate.
   Enter through the Madison Ave door at the back of the church.  Go down
  the steps\, continue going straight into the Fellowship Hall.
LAST-MODIFIED:20260423T231225
LOCATION:Simpson UMC Fellowship Hall
SUMMARY:NA Meeting
URL;VALUE=URI:https://www.simpsonwvumc.org/events/na-meeting/2026-08-20
END:VEVENT
END:VCALENDAR
