BEGIN:VCALENDAR
VERSION:2.0
PRODID:icalendar-ruby
CALSCALE:GREGORIAN
METHOD:PUBLISH
BEGIN:VEVENT
DTSTAMP:20260424T234159Z
UID:15-515964@simpsonwvumc.org
DTSTART:20261015T233000Z
DTEND:20261016T003000Z
CLASS:PUBLIC
CREATED:20260424T170644
DESCRIPTION:All those recovering from addiction are welcome to participate.
   Enter through the Madison Ave door at the back of the church.  Go down
  the steps\, continue going straight into the Fellowship Hall.
LAST-MODIFIED:20260424T170644
LOCATION:Simpson UMC Fellowship Hall
SUMMARY:NA Meeting
URL;VALUE=URI:https://www.simpsonwvumc.org/events/na-meeting/2026-10-15
END:VEVENT
END:VCALENDAR
