BEGIN:VCALENDAR
VERSION:2.0
PRODID:icalendar-ruby
CALSCALE:GREGORIAN
METHOD:PUBLISH
BEGIN:VEVENT
DTSTAMP:20260421T102232Z
UID:7-505496@simpsonwvumc.org
DTSTART:20260805T130000Z
DTEND:20260805T153000Z
CLASS:PUBLIC
CREATED:20260420T211536
DESCRIPTION:We provide groceries\, clothing\, and some household items on W
 ednesdays through our Shepherd’s Pantry from 9 a.m. – 11:30 a.m. for t
 hose in need in our community. The Shepherd’s Pantry is located on the c
 orner of Jefferson and 6th St in Moundsville. To contact the Shepherd’s 
 Pantry to inquire about how to sign up to receive their services\, please 
 call 304-221-9510.
LAST-MODIFIED:20260420T211536
LOCATION:The corner of Jefferson and 6th St in Moundsville\, WV
SUMMARY:Shepherd's Pantry
URL;VALUE=URI:https://www.simpsonwvumc.org/events/shepherds-pantry/2026-08-
 05
ATTACH;FILENAME=Shepherds Pantry.jpg;FMTTYPE=image/jpeg:https://dq5pwpg1q8r
 u0.cloudfront.net/2025/07/17/19/23/48/3982d24f-bf51-48ff-a64b-ec421addbbe4
 /Shepherds%20Pantry.jpg
END:VEVENT
END:VCALENDAR
