BEGIN:VCALENDAR
VERSION:2.0
PRODID:icalendar-ruby
CALSCALE:GREGORIAN
METHOD:PUBLISH
BEGIN:VEVENT
DTSTAMP:20260420T163757Z
UID:9-503747@simpsonwvumc.org
DTSTART:20260809T134500Z
DTEND:20260810T024500Z
CLASS:PUBLIC
CREATED:20260420T105614
DESCRIPTION:Join us for worship each Sunday at 9:45 AM.  Come as you are\,
  and find a welcoming community!
LAST-MODIFIED:20260420T105614
LOCATION:Simpson United Methodist Church
SUMMARY:Sunday Worship
URL;VALUE=URI:https://www.simpsonwvumc.org/events/sunday-worship/2026-08-09
ATTACH;FILENAME=Simpson UMC outside.jpg;FMTTYPE=image/jpeg:https://dq5pwpg1
 q8ru0.cloudfront.net/2025/07/17/20/26/46/50806da1-ef28-4a56-80a9-53d681b02
 201/Simpson%20UMC%20outside.jpg
END:VEVENT
END:VCALENDAR
