BEGIN:VCALENDAR
VERSION:2.0
PRODID:icalendar-ruby
CALSCALE:GREGORIAN
METHOD:PUBLISH
BEGIN:VEVENT
DTSTAMP:20260421T005414Z
UID:9-505114@simpsonwvumc.org
DTSTART:20260913T134500Z
DTEND:20260914T024500Z
CLASS:PUBLIC
CREATED:20260420T184114
DESCRIPTION:Join us for worship each Sunday at 9:45 AM.  Come as you are\,
  and find a welcoming community!
LAST-MODIFIED:20260420T184114
LOCATION:Simpson United Methodist Church
SUMMARY:Sunday Worship
URL;VALUE=URI:https://www.simpsonwvumc.org/events/sunday-worship/2026-09-13
ATTACH;FILENAME=Simpson UMC outside.jpg;FMTTYPE=image/jpeg:https://dq5pwpg1
 q8ru0.cloudfront.net/2025/07/17/20/26/46/50806da1-ef28-4a56-80a9-53d681b02
 201/Simpson%20UMC%20outside.jpg
END:VEVENT
END:VCALENDAR
